BEGIN:VCALENDAR
VERSION:2.0
BEGIN:VEVENT
URL:https://realtoriya.com/moiastranitca/viewevent/vystavkakommercheskoinedvizhimostirexrealestateexhibition 
DTSTART:20130424T000000
DTEND:20130426T000000
SUMMARY:Выставка коммерческой недвижимости REX (Real Estate Exhibition) 
DESCRIPTION:<p>
	<strong>В экспозиции:</strong></p>
<ul>
	<li>
		бизнес-центры;</li>
	<li>
		торговые центры;</li>
	<li>
		логистические комплексы;</li>
	<li>
		многофункциональные объекты;</li>
	<li>
		проекты комплексной застройки.</li>
</ul>
<p align="justify">
	<strong>Деловая программа</strong> включает три направления: MALL Conference (конференции по торговой недвижимости и ритейлу), REX Conference (офисная и складская недвижимость), CMDC Special (конференция по продвижению и развитию городов, комплексная застройка, регенерация территорий).</p>
<h2>
	Тематика выставки:</h2>
<ul>
	<li>
		<div align="justify">
			<strong>Торговые центры:</strong> девелопмент -  действующие торговые центры, проектысоздания новых объектов, реконструкция и обновление, перепрофилируемые объекты.</div>
	</li>
	<li>
		<div align="justify">
			<strong>Услуги:</strong> консультирование: исследования, разработка концепции объекта, брендинг, продвижение, архитектура, дизайн, проектирование, сдача в аренду, технологии управления торговой недвижимостью, финансы, инвестиции, страхование.</div>
	</li>
	<li>
		<div align="justify">
			<strong>Сетевые операторы:</strong> розничная торговля, развлечения, сервис, общественное питание, фитнес-клубы.</div>
	</li>
	<li>
		<div align="justify">
			<strong>Оборудование и информационные технологии:</strong> оснащение магазинов, фуд-кортов, зоны развлечений, фасады, витрины, освещение, программное обеспечение, инжиниринг, клининг и эксплуатация торговых центров, охрана и обеспечение безопасности.</div>
	</li>
</ul>
LOCATION:Москва, Россия, Краснопресненская наб., 14 
END:VEVENT
END:VCALENDAR