BEGIN:VCALENDAR
VERSION:2.0
BEGIN:VEVENT
URL:https://realtoriya.com/moiastranitca/viewevent/nedvizhimost-2012 
DTSTART:20121025T000000
DTEND:20121027T000000
SUMMARY:Недвижимость-2012
DESCRIPTION:<p>
	<span style="text-decoration: underline;">Цели выставочного мероприятия &bdquo;Недвижимость -2012"(Investate)<br />
	</span>- предоставить полную, профессиональную информацию и услуги лицам, заинтересованным в инвестировании, приобретении, продаже и аренде недвижимости в Украине. Также целью мероприятия является консолидация потребительского рынка финансово-кредитных услуг на рынке недвижимости.<br />
	На выставке-форуме будут представлены строительные, инвестиционные, профессиональные объединения и организации, агентства недвижимости.<br />
	Основные направления выставки «Недвижимость- 2012»<br />
	&bull; Строительство<br />
	&bull; Инвестиции<br />
	&bull; Курортная недвижимость в Украине<br />
	&bull; Коттеджные поселки и загородная недвижимость<br />
	&bull; Риэлторское сопровождение сделок</p>
LOCATION:Киев, Украина, пр. Броварской, 15
END:VEVENT
END:VCALENDAR