BEGIN:VCALENDAR
VERSION:2.0
BEGIN:VEVENT
URL:https://realtoriya.com/moiastranitca/viewevent/vstrechainvestorov 
DTSTART:20120829T000000
DTEND:20120829T120000
SUMMARY:Встреча инвесторов
DESCRIPTION:
LOCATION:Борисполь, Ватутина, 97
END:VEVENT
END:VCALENDAR