BEGIN:VCALENDAR
VERSION:2.0
BEGIN:VEVENT
URL:https://realtoriya.com/moiastranitca/viewevent/xviimezhdunarodnaiakonferentciiarynoknedvizhimosti 
DTSTART:20130509T000000
DTEND:20130512T000000
SUMMARY:XVII международная конференция "Рынок недвижимости"
DESCRIPTION:<p>
	<span lang="UK">Ялтинская конференция &ndash; это уникальная возможность узнать о новых тенденциях  на рынке недвижимости, новых технологиях в риэлторском бизнесе, обменяться опытом с коллегами из Украины и зарубежных стран, приобрести интересные бизнес-контакты  и незабываемые положительные эмоции.</span></p>
LOCATION:Ялта, Украина
END:VEVENT
END:VCALENDAR