BEGIN:VCALENDAR
VERSION:2.0
BEGIN:VEVENT
URL:https://realtoriya.com/moiastranitca/viewevent/8-aiamezhdunarodnaiavystavkanedvizhimostzarubezhom 
DTSTART:20121102T000000
DTEND:20121103T000000
SUMMARY:8-ая Международная выставка «Недвижимость за рубежом»
DESCRIPTION:<p>
	<strong>Цель выставки:</strong> познакомить украинских потребителей с тенденциями рынка зарубежной недвижимости, проинформировать о предложениях и ценах, дать возможность проанализировать и сравнить рынки различных стран, помочь сделать выбор, предоставить максимально выгодные условия непосредственно от представителей компаний, а также проконсультировать об особенностях ипотеки, юридических аспектах, правилах покупки зарубежной недвижимости.</p>
LOCATION:Киев, Украина
END:VEVENT
END:VCALENDAR