BEGIN:VCALENDAR
VERSION:2.0
BEGIN:VEVENT
URL:https://realtoriya.com/moiastranitca/viewevent/latvianrealestategallery 
DTSTART:20120903T000000
DTEND:20120930T000000
SUMMARY:LATVIAN REAL ESTATE GALLERY
DESCRIPTION:<p>
	Продажа и аренда жилой и коммерческой недвижимости в Латвии и за рубежом:<br />
	  - новостройки, жилые комплексы, элитная недвижимость;<br />
	  - загородные дома, коттеджные поселки, земельные участки;<br />
	  - курортная недвижимость, гостиничные комплексы;<br />
	  - офисные здания, торговые и бизнес-центры и др.<br />
	Инвестиции в латвийскую и зарубежную недвижимость.</p>
<p>
	Консалтинговые и иммиграционные услуги (виды на жительство и др.).</p>
LOCATION:Riga, Latvia
END:VEVENT
END:VCALENDAR