BEGIN:VCALENDAR
VERSION:2.0
BEGIN:VEVENT
URL:https://realtoriya.com/moiastranitca/viewevent/caspianrealty/nedvizhimost2012 
DTSTART:20121017T000000
DTEND:20121020T000000
SUMMARY:Caspian Realty / Недвижимость 2012
DESCRIPTION:<p>
	<span style="text-decoration: underline;"><strong>Тематические разделы:</strong></span><br />
	<br />
	1. Квартиры в новостройках<br />
	2. Квартиры на вторичном рынке<br />
	3. Офисные помещения<br />
	4. Виллы и загородные дома<br />
	5. Недвижимость за рубежом<br />
	6. Коммерческие объекты<br />
	7. Земельные участки<br />
	8. Архитектурно-дизайнерские проекты<br />
	9. Аренда и продажа недвижимости<br />
	10. Ипотечное кредитование<br />
	11. Банковские услуги<br />
	12. Консалтинговые услуги<br />
	13. Оценочная деятельность<br />
	14. Юридические услуги<br />
	15. Страхование жилья и имущества<br />
	16. Индивидуальный дизайн и ремонт</p>
LOCATION:Баку, Азербайджан
END:VEVENT
END:VCALENDAR