BEGIN:VCALENDAR
VERSION:2.0
BEGIN:VEVENT
URL:https://realtoriya.com/moiastranitca/viewevent/2-iamezhdunarodnaiavystavkaukrainskoiizarubezhnoinedvizhimosti 
DTSTART:20140403T000000
DTEND:20140405T000000
SUMMARY:2-я Международная выставка украинской и зарубежной недвижимости
DESCRIPTION:<p>
	Основные разделы выставки «Ярмарка Недвижимости»:</p>
<p>
	- Городская недвижимость</p>
<p>
	- Загородная недвижимость: коттеджи и загородное строительство.</p>
<p>
	- Зарубежная недвижимость</p>
<p>
	- Курортная недвижимость</p>
<p>
	- Коммерческая недвижимость</p>
<p>
	- Строительство и реконструкция</p>
<p>
	- Финансовый сектор</p>
<p>
	- Квартал услуг</p>
<p>
	- СМИ и интернет проекты.</p>
LOCATION:Kiev, Ukraine
END:VEVENT
END:VCALENDAR