BEGIN:VCALENDAR
VERSION:2.0
BEGIN:VEVENT
URL:https://realtoriya.com/moiastranitca/viewevent/30-aiavystavkarossiiskoiizarubezhnoinedvizhimostidomekspo 
DTSTART:20140410T000000
DTEND:20140413T000000
SUMMARY:30-ая выставка российской и зарубежной недвижимости «ДОМЭКСПО»
DESCRIPTION:<h2 style="margin-left: 40px;">
	<span style="font-size:13px;">Тематика выставки недвижимости 2014</span></h2>
<p style="margin-left: 40px; text-align: left;">
	 </p>
<p style="margin-left: 40px; text-align: left;">
	<a href="http://www.domexpo.ru/urbanproperty.htm"><strong>Городская недвижимость</strong></a> - квартиры в новостройках и на вторичном рынке недвижимости, жилые комплексы, элитная недвижимость, новостройки Москвы, Подмосковья, Санкт-Петербурга, Сочи, Калининграда и др.</p>
<p style="margin-left: 40px; text-align: left;">
	 </p>
<p style="margin-left: 40px; text-align: left;">
	<a href="http://www.domexpo.ru/cottage.htm"><strong>Загородная недвижимост</strong></a><strong><a href="http://domexpo.ru/cottage.htm" target="_blank">ь</a></strong> &ndash; загородные дома, коттеджи, таунхаусы, дачные и коттеджные поселки, земельные участки в Московской и Ленинградской области, Краснодарском крае и в других российских регионах.</p>
<p style="margin-left: 40px; text-align: left;">
	 </p>
<p style="margin-left: 40px; text-align: left;">
	<strong><a href="http://www.domexpo.ru/mortgage.htm">Ипотека и кредит</a></strong> &ndash; кредиты и ипотечные программы от ведущих банков, оптимальные условия кредитования на жилье, консультации опытных специалистов, оформление кредита на недвижимость.</p>
<p style="margin-left: 40px; text-align: left;">
	 </p>
<p style="margin-left: 40px; text-align: left;">
	<strong><a href="http://www.domexpo.ru/internationalrealestate.htm">Зарубежная недвижимость</a></strong> - инвестиции в зарубежную недвижимость <strong><a href="http://www.domexpo.ru/nedvijimost_v_ispanii.htm">Испании</a></strong>, <strong><a href="http://www.domexpo.ru/nedvijimost_v_italia.htm">Италии</a></strong>, <strong><a href="http://www.domexpo.ru/nedvijimost_vo_francii.htm">Франции</a></strong>, <strong><a href="http://www.domexpo.ru/nedvijimost_v_turcii.htm">Турции</a></strong>, <strong><a href="http://www.domexpo.ru/nedvijimost_v_bolgarii.htm">Болгарии</a></strong>, <strong><a href="http://www.domexpo.ru/nedvijimost_v_grecii.htm">Греции</a></strong>, <strong><a href="http://www.domexpo.ru/nedvijimost_na_kipre.htm">Кипра</a></strong>, <strong><a href="http://www.domexpo.ru/nedvijimost_v_chernogorii.htm">Черногории</a></strong> и других стран. Апартаменты и квартиры за рубежом, виллы на побережье и горнолыжных курортах, эксклюзивная недвижимость со всего света,<strong> <a href="http://www.domexpo.ru/tours.htm">смотровые туры за недвижимостью</a></strong></p>
<p style="margin-left: 40px; text-align: left;">
	 </p>
<p style="margin-left: 40px; text-align: left;">
	<strong>Коммерческая недвижимость</strong> - офисные здания, торговые и бизнес-центры, промышленная и курортная недвижимость, гостиничные комплексы, инвестиционные проекты и др.</p>
<p style="margin-left: 40px; text-align: left;">
	 </p>
<p style="margin-left: 40px; text-align: left;">
	<strong>Продажа готового бизнеса</strong> - покупка отелей, магазинов, ресторанов, пляжей, домов престарелых, источников питьевой воды, сельскохозяйственных земель и т.д.</p>
<p style="margin-left: 40px; text-align: left;">
	 </p>
<p style="margin-left: 40px; text-align: left;">
	<strong>Юридическая помощь в регистрации бизнеса</strong></p>
<p style="margin-left: 40px; text-align: left;">
	 </p>
<p style="margin-left: 40px; text-align: left;">
	<strong>Консалтинговые и иммиграционные услуги</strong></p>
LOCATION:Moscow, Russia
END:VEVENT
END:VCALENDAR